BEGIN:VCALENDAR
VERSION:2.0
PRODID:-//APEGNB Fredericton Branch - ECPv6.15.20//NONSGML v1.0//EN
CALSCALE:GREGORIAN
METHOD:PUBLISH
X-WR-CALNAME:APEGNB Fredericton Branch
X-ORIGINAL-URL:https://engineersfredericton.ca
X-WR-CALDESC:Events for APEGNB Fredericton Branch
REFRESH-INTERVAL;VALUE=DURATION:PT1H
X-Robots-Tag:noindex
X-PUBLISHED-TTL:PT1H
BEGIN:VTIMEZONE
TZID:America/Moncton
BEGIN:DAYLIGHT
TZOFFSETFROM:-0400
TZOFFSETTO:-0300
TZNAME:ADT
DTSTART:20240310T060000
END:DAYLIGHT
BEGIN:STANDARD
TZOFFSETFROM:-0300
TZOFFSETTO:-0400
TZNAME:AST
DTSTART:20241103T050000
END:STANDARD
BEGIN:DAYLIGHT
TZOFFSETFROM:-0400
TZOFFSETTO:-0300
TZNAME:ADT
DTSTART:20250309T060000
END:DAYLIGHT
BEGIN:STANDARD
TZOFFSETFROM:-0300
TZOFFSETTO:-0400
TZNAME:AST
DTSTART:20251102T050000
END:STANDARD
BEGIN:DAYLIGHT
TZOFFSETFROM:-0400
TZOFFSETTO:-0300
TZNAME:ADT
DTSTART:20260308T060000
END:DAYLIGHT
BEGIN:STANDARD
TZOFFSETFROM:-0300
TZOFFSETTO:-0400
TZNAME:AST
DTSTART:20261101T050000
END:STANDARD
END:VTIMEZONE
BEGIN:VEVENT
DTSTART;TZID=America/Moncton:20250817T130000
DTEND;TZID=America/Moncton:20250817T170000
DTSTAMP:20260423T060219
CREATED:20250725T040327Z
LAST-MODIFIED:20250725T040327Z
UID:5200-1755435600-1755450000@engineersfredericton.ca
SUMMARY:APEGNB Family Day
DESCRIPTION:Join us for some fun in the sun for Family Day at Hartt Island Waterpark\, hosted by your APEGNB Fredericton Branch. Family-friendly drinks and snacks will be served and registration includes access to the waterpark + a round of mini-golf. \nMembers and their families are welcome. Registration below is required\, but payment is only required at the resort welcome kiosk on the day of the event. \nIf you prefer to arrive earlier to enjoy a full day\, please advise water park staff that you are with APEGNB and they will record your name & collect $10 each.
URL:https://engineersfredericton.ca/event/apegnb-family-day/
LOCATION:Hartt Island RV and Water Park\, 2475 Woodstock Road\, Fredericton\, NB E3C 1P6\, Fredericton\, CA
ATTACH;FMTTYPE=image/jpeg:https://engineersfredericton.ca/wp-content/uploads/2025/07/5200_image_522537846_1218827383377967_2795918662983683129_n.jpg
END:VEVENT
END:VCALENDAR